BEGIN:VCALENDAR
VERSION:2.0
CALSCALE:GREGORIAN
PRODID:-//MyApp//Calendar 1.0//EN
BEGIN:VEVENT
METHOD:PUBLISH
UID:34764@regionalniportaly.cz
DTSTAMP:20260421T193412Z
DTSTART;VALUE=DATE:20231110
DTEND;VALUE=DATE:20231111
SUMMARY:Sandra Pogodová - zábavná talkshow HOĎ SE DO POGODY
DESCRIPTION:Zábavná talkshow Sandry Pogodové Hoď se do pogody. Večer se skládá z vtipného vyprávění a čtení z povídkových bestselerů Sandry a Richarda Pogodových. Přijďte si procvičit bránici smíchem spolu se Sandrou. Po akci následuje ještě autogramiáda.&nbsp\;
LOCATION:Svatý Jan
END:VEVENT
END:VCALENDAR