BEGIN:VCALENDAR
VERSION:2.0
CALSCALE:GREGORIAN
PRODID:-//MyApp//Calendar 1.0//EN
BEGIN:VEVENT
METHOD:PUBLISH
UID:34737@regionalniportaly.cz
DTSTAMP:20260422T002942Z
DTSTART;VALUE=DATE:20231211
DTEND;VALUE=DATE:20231212
SUMMARY:Slepice na zádech | Tábor
DESCRIPTION:Populární komedie Slepice na zádech s Vojtěchem Dykem a Tatianou Dykovou míří do Tábora!Německá komedie o milostném trojúhelníku a hledání alibi nabízí prostor pro skvělé herecké výkony&nbsp\;Tatiany Dykové a Vojty Dyka.Muž zapomněl na její narozeniny. Je to dostatečný důvod k vraždě? Bláznivá groteska o šílenství\, k němuž vás dožene manželství.&nbsp\;Hrají: Vojtěch Dyk\, Tatiana Dyková a Radovan KlučkaRežie: Jaromír DulavaAutor: Fred ApkePřeklad: Michal KotroušDivadlo: Divadlo UngeltDoba trvání:120 min včetně přestávky
LOCATION:Tábor
END:VEVENT
END:VCALENDAR