BEGIN:VCALENDAR
VERSION:2.0
CALSCALE:GREGORIAN
PRODID:-//MyApp//Calendar 1.0//EN
BEGIN:VEVENT
METHOD:PUBLISH
UID:34726@regionalniportaly.cz
DTSTAMP:20260421T224551Z
DTSTART;VALUE=DATE:20230902
DTEND;VALUE=DATE:20230903
SUMMARY:Mezinárodní koncert dechových hudeb "Z jižních Čech a Moravy
DESCRIPTION:O akci&nbsp\;Připravte se na velkou událost ! ! !Dechovky opět míří do Chýnova!Na 16. ročník Mezinárodního koncertu dechových hudeb&nbsp\;pozvali pořadatelé&nbsp\;jedny z nejlepších dechových kapel\, které momentálně na Moravě a na Slovensku jsou.2. září od 14:00 v parku před školou vystoupí kapely Žadovjáci\,&nbsp\;Motýlek z Rakouska\, Galáni z jižní Moravy&nbsp\;a MUZIKANTI z JIŽNÍCH ČECH.&nbsp\;Program koncertu:MUZIKANTI z JIŽNÍCH ČECH&nbsp\;Motýlek z RakouskaGláni&nbsp\;ŽadovjáciCelým koncertem provází Karel Hegner.Změna programu vyhrazena.Po skončení koncertu následuje taneční zábava s Žadovjáky a Muzikanty z jižních Čech.&nbsp\;Pro návštěvníky je připraveno:OBČERSTVENÍ&nbsp\;&nbsp\;je zajiště za příznivé ceny - maso z udírny\,&nbsp\;grilu\, halušky\, řízky\, bramborák\, domácí zákusky\,&nbsp\;&nbsp\;míchané nápoje\, pivo\, limo a další...&nbsp\;PARKOVÁNÍ&nbsp\;- v místě zdarma500 míst k sezení pod stany.&nbsp\;
LOCATION:Chýnov
END:VEVENT
END:VCALENDAR