BEGIN:VCALENDAR
VERSION:2.0
CALSCALE:GREGORIAN
PRODID:-//MyApp//Calendar 1.0//EN
BEGIN:VEVENT
METHOD:PUBLISH
UID:34688@regionalniportaly.cz
DTSTAMP:20260422T000442Z
DTSTART;VALUE=DATE:20231219
DTEND;VALUE=DATE:20231220
SUMMARY:Jakub Smolík - vánoční koncert
DESCRIPTION:Jakub Smolík - vánoční koncert s kapelou v hotelu Palcát v Táboře v úterý 19. prosince 2023. Můžete se těšit na vánoční koledy s dětským pěveckým sborem Fénix při Základní umělecké škole v Sezimově Ústí\, promítání\, vtipné historky a večer plný písní a zábavy. Začátek koncertu v 19 hodin.
LOCATION:Tábor
END:VEVENT
END:VCALENDAR