BEGIN:VCALENDAR
VERSION:2.0
CALSCALE:GREGORIAN
PRODID:-//MyApp//Calendar 1.0//EN
BEGIN:VEVENT
METHOD:PUBLISH
UID:34290@regionalniportaly.cz
DTSTAMP:20260421T225406Z
DTSTART;VALUE=DATE:20231214
DTEND;VALUE=DATE:20231217
SUMMARY:Sacred Gathering Winter Edition 2023
DESCRIPTION:V CHLADNÉ ZIMNÍ DNY SE PŘIPOJTE K NÁM BLÍZKÉ DUŠE KMENU A NECHTE SVÉ SRDCE ZAHŘÁT VE SPOLEČNÉM KRUHU.ZPÍVÁNÍ\, HRANÍ\, MLUVENÍ\, SDÍLENÍ\, TANEC\, MEDITACE\, JÓGA&nbsp\;&nbsp\;SUPER EARLY BIRD vstupenka do 30.9.4500 KčVSTUPENKY&nbsp\;www.sacredgathering.cz&nbsp\;
LOCATION:Postupice
END:VEVENT
END:VCALENDAR