BEGIN:VCALENDAR
VERSION:2.0
CALSCALE:GREGORIAN
PRODID:-//MyApp//Calendar 1.0//EN
BEGIN:VEVENT
METHOD:PUBLISH
UID:34019@regionalniportaly.cz
DTSTAMP:20260422T002011Z
DTSTART;VALUE=DATE:20231021
DTEND;VALUE=DATE:20231022
SUMMARY:Parkán + Paradoxy Nechvalice
DESCRIPTION:Další podzimní koncert v NECHVALICÍCH bude 21.10. za účasti PARADOXY A PARKÁN. Nenechte si ujít toto setkání legend.Přeprodej zahájíme počátkem července.Line up:19.00 Open doors20.00-21.00 Paradoxy22.00-0.00 Parkán
LOCATION:Sedlčany
END:VEVENT
END:VCALENDAR